BEGIN:VCALENDAR
VERSION:2.0
PRODID:-//לחקלאי - ECPv6.10.1.1//NONSGML v1.0//EN
CALSCALE:GREGORIAN
METHOD:PUBLISH
X-ORIGINAL-URL:https://xn--4dbnhjb9d.xn--4dbrk0ce
X-WR-CALDESC:Events for לחקלאי
REFRESH-INTERVAL;VALUE=DURATION:PT1H
X-Robots-Tag:noindex
X-PUBLISHED-TTL:PT1H
BEGIN:VTIMEZONE
TZID:Europe/Helsinki
BEGIN:DAYLIGHT
TZOFFSETFROM:+0200
TZOFFSETTO:+0300
TZNAME:EEST
DTSTART:20260329T010000
END:DAYLIGHT
BEGIN:STANDARD
TZOFFSETFROM:+0300
TZOFFSETTO:+0200
TZNAME:EET
DTSTART:20261025T010000
END:STANDARD
END:VTIMEZONE
BEGIN:VEVENT
DTSTART;TZID=Europe/Helsinki:20260224T080000
DTEND;TZID=Europe/Helsinki:20260224T133000
DTSTAMP:20260426T004432
CREATED:20260210T205238Z
LAST-MODIFIED:20260210T205238Z
UID:5512-1771920000-1771939800@xn--4dbnhjb9d.xn--4dbrk0ce
SUMMARY:כנס ענף הדובדבן
DESCRIPTION:כנס ענף הדובדבן יתקיים ביום שלישי\, 24.02.2026 במתנ"ס גוש חלב.\nכנס ענף הדובדבן – סדר יום: \n\n\n\n08:00\nהתכנסות\, קפה ועוגה\n\n\n08:30\nברכות הישוב המארח:\n– שריף ניג'ם\, ראש המועצה\, גוש חלב\n– טוני עלם\, נציג מגדלי גוש חלב\n\n\n08:45\nענף הדובדבן עונת 2025 – איל יונאי\, שולחן דובדבן מועצת הצמחים\n\n\n09:00\nרשמים מכנס דובדבן – ארה"ב 2025 – דר' ענת זיסוביץ חריט\, שה"מ משרד החקלאות ובטחון המזון\n\n\n09:20\nפעילות קנט בענף הפירות – דגש על ענף הדובדבן – אסף שמיר סמנכ"ל קנט\, סמנכ"ל הערכה ותביעות קנט\n\n\n09:40\nכנות\, זנים ועיצובים – רשמי סיור בוושינגטון 2025 – איתי במברגר\, שה"מ\, משרד החקלאות ובטחון המזון\n\n\n10:00\nהפסקה\n\n\n10:30\nעמלים – מתיעוד משפחתי ליצירה קולנועית – אדווה אופיר\n\n\n11:10\nמחקרים בדובדבן: עיצוב מטע\, התעוררות – דר' מיכל אקרמן לברט\, מו"פ צפון\n\n\n11:40\nכנות דובדבן – שמעון אנטמן\, מועצת הצמחים\n\n\n12:00\nכיווני מחקר הגנת בצומח בדובדבן – כרמית סופר ארד\, שה"מ\, משרד החקלאות ובטחון המזון\n\n\n12:30\nמחקרים בדובדבן: אינטרודוקציה והשבחה – דר' מיכל אקרמן לברט\, מו"פ צפון\n\n\n13:00\nלא כל מה שלבן נוצץ – סוגיות בגידול הזן רנייר – איל יונאי\, שולחן דובדבן\n\n\n\nבשעה 13:30 נקיים סיור תיירותי מודרך להכרות הישוב גוש חלב\, הסיור ימשך כשעה וחצי. מומלץ!\nההשתתפות ללא עלות\, אולם נדרשת הרשמה מראש.\nמחכים לכם! הקש לפתיחת טופס ההרשמה: להרשמה \nלפרטים ניתן לפנות אל איל יונאי לטל': 050-5384753\, eyalyonaip1@gmail.com \nכנס ענף הדובדבן
URL:https://xn--4dbnhjb9d.xn--4dbrk0ce/events/%d7%9b%d7%a0%d7%a1-%d7%a2%d7%a0%d7%a3-%d7%94%d7%93%d7%95%d7%91%d7%93%d7%91%d7%9f/
LOCATION:מתנ״ס גוש חלב\, גוש חלב
CATEGORIES:דובדבן,כנס
ATTACH;FMTTYPE=image/png:https://xn--4dbnhjb9d.xn--4dbrk0ce/wp-content/uploads/2026/02/1770756557.png
END:VEVENT
BEGIN:VEVENT
DTSTART;TZID=Europe/Helsinki:20260224T083000
DTEND;TZID=Europe/Helsinki:20260224T170000
DTSTAMP:20260426T004432
CREATED:20260211T193855Z
LAST-MODIFIED:20260211T193908Z
UID:5533-1771921800-1771952400@xn--4dbnhjb9d.xn--4dbrk0ce
SUMMARY:כנס סיכום המחקרים באגוזי אדמה
DESCRIPTION:כנס סיכום המחקרים באגוזי אדמה\nיתקיים ב-24 בפברואר\, בקיבוץ נירים\, ויכלול סקירת מחקרים משנת 2025 והצעות מחקר ל-2026. הכנס ממומן על ידי המועצה לייצור ושווק אגוזי אדמה ומהווה במה מקצועית להצגת חידושים והישגים בענף\, כולל התייחסות לטכנולוגיות ושיטות גידול מתקדמות. \n\nאגוז אדמה\, בוטן
URL:https://xn--4dbnhjb9d.xn--4dbrk0ce/events/%d7%9b%d7%a0%d7%a1-%d7%a1%d7%99%d7%9b%d7%95%d7%9d-%d7%94%d7%9e%d7%97%d7%a7%d7%a8%d7%99%d7%9d-%d7%91%d7%90%d7%92%d7%95%d7%96%d7%99-%d7%90%d7%93%d7%9e%d7%94/
LOCATION:מועדון לחבר קיבוץ נירים\, נירים
CATEGORIES:אגוזי אדמה,כנס
ATTACH;FMTTYPE=image/png:https://xn--4dbnhjb9d.xn--4dbrk0ce/wp-content/uploads/2025/09/1758830191.png
END:VEVENT
BEGIN:VEVENT
DTSTART;TZID=Europe/Helsinki:20260224T090000
DTEND;TZID=Europe/Helsinki:20260224T140000
DTSTAMP:20260426T004432
CREATED:20260211T193150Z
LAST-MODIFIED:20260211T193150Z
UID:5528-1771923600-1771941600@xn--4dbnhjb9d.xn--4dbrk0ce
SUMMARY:יום עיון בנושא GIS וחישה מרחוק חקלאות וסביבה
DESCRIPTION:יום עיון בנושא GIS וחישה מרחוק חקלאות וסביבה
URL:https://xn--4dbnhjb9d.xn--4dbrk0ce/events/%d7%99%d7%95%d7%9d-%d7%a2%d7%99%d7%95%d7%9f-%d7%91%d7%a0%d7%95%d7%a9%d7%90-gis-%d7%95%d7%97%d7%99%d7%a9%d7%94-%d7%9e%d7%a8%d7%97%d7%95%d7%a7-%d7%97%d7%a7%d7%9c%d7%90%d7%95%d7%aa-%d7%95%d7%a1%d7%91/
LOCATION:מכון שמיר למחקר\, קצרין
CATEGORIES:GIS,חדשנות חקלאית,חישה מרחוק
ATTACH;FMTTYPE=image/jpeg:https://xn--4dbnhjb9d.xn--4dbrk0ce/wp-content/uploads/2026/02/1770837982.jpg
END:VEVENT
END:VCALENDAR