BEGIN:VCALENDAR
VERSION:2.0
PRODID:-//לחקלאי - ECPv6.10.1.1//NONSGML v1.0//EN
CALSCALE:GREGORIAN
METHOD:PUBLISH
X-WR-CALNAME:לחקלאי
X-ORIGINAL-URL:https://xn--4dbnhjb9d.xn--4dbrk0ce
X-WR-CALDESC:Events for לחקלאי
REFRESH-INTERVAL;VALUE=DURATION:PT1H
X-Robots-Tag:noindex
X-PUBLISHED-TTL:PT1H
BEGIN:VTIMEZONE
TZID:Europe/Helsinki
BEGIN:DAYLIGHT
TZOFFSETFROM:+0200
TZOFFSETTO:+0300
TZNAME:EEST
DTSTART:20250330T010000
END:DAYLIGHT
BEGIN:STANDARD
TZOFFSETFROM:+0300
TZOFFSETTO:+0200
TZNAME:EET
DTSTART:20251026T010000
END:STANDARD
END:VTIMEZONE
BEGIN:VEVENT
DTSTART;TZID=Europe/Helsinki:20250825T100000
DTEND;TZID=Europe/Helsinki:20250825T140000
DTSTAMP:20260426T065131
CREATED:20250817T072252Z
LAST-MODIFIED:20250817T072252Z
UID:4107-1756116000-1756130400@xn--4dbnhjb9d.xn--4dbrk0ce
SUMMARY:יום עיון למגדלי מטילות לביצי מאכל
DESCRIPTION:תחום בעלי כנף בשה"מ – משרד החקלאות וביטחון המזון\, מזמין אתכם ליום עיון\, שיתקיים באולם רואי במשרד החקלאות בבית דגן\, ביום שני – 25/08/2025\, החל מהשעה 10:00 בבוקר.\nבתכנית: \n\n\n\n10:15-10:00\nברכות ועדכונים – נבות חקלאי\, מנהל אגף א' (בעלי חיים)\, שה"מ\n\n\n11:00:10:15\nדגשים בגידול פרגיות ללולים נטולי כלובים – ד"ר יוגב פיאסטון\, חברת MSD\n\n\n11:45:11:00\nמחלות שכיחות בממשק נטול כלובים – ד"ר נדב זלצר\, מועצת הלול\n\n\n12:00-11:45\nהפסקה\n\n\n12:45-12:00\nעקרונות איוורור בלולים מבוקרים – אילן אריה \, תחום בעלי כנף\, שה"מ\n\n\n13:15-12:45\nרוחש ומתרחש – מוטי אלקבץ\, מזכיר ארגון המגדלים\n\n\n\nהכניסה לקריה החקלאית מחייבת הרשמה מראש!\nלהרשמה לחץ כאן \nמדריכי תחום בעלי כנף\, שה"מ\nטל נירל\, מרכזת ארגונית\, טל': 054-4337705
URL:https://xn--4dbnhjb9d.xn--4dbrk0ce/events/%d7%99%d7%95%d7%9d-%d7%a2%d7%99%d7%95%d7%9f-%d7%9c%d7%9e%d7%92%d7%93%d7%9c%d7%99-%d7%9e%d7%98%d7%99%d7%9c%d7%95%d7%aa-%d7%9c%d7%91%d7%99%d7%a6%d7%99-%d7%9e%d7%90%d7%9b%d7%9c/
LOCATION:אולם ע״ש רואי\, הקריה החקלאית\, בית דגן
CATEGORIES:ביצים,יום עיון,מטילות
ATTACH;FMTTYPE=image/jpeg:https://xn--4dbnhjb9d.xn--4dbrk0ce/wp-content/uploads/2025/08/1755414906.jpg
END:VEVENT
END:VCALENDAR