BEGIN:VCALENDAR
VERSION:2.0
PRODID:-//לחקלאי - ECPv6.10.1.1//NONSGML v1.0//EN
CALSCALE:GREGORIAN
METHOD:PUBLISH
X-ORIGINAL-URL:https://xn--4dbnhjb9d.xn--4dbrk0ce
X-WR-CALDESC:Events for לחקלאי
REFRESH-INTERVAL;VALUE=DURATION:PT1H
X-Robots-Tag:noindex
X-PUBLISHED-TTL:PT1H
BEGIN:VTIMEZONE
TZID:Europe/Helsinki
BEGIN:DAYLIGHT
TZOFFSETFROM:+0200
TZOFFSETTO:+0300
TZNAME:EEST
DTSTART:20260329T010000
END:DAYLIGHT
BEGIN:STANDARD
TZOFFSETFROM:+0300
TZOFFSETTO:+0200
TZNAME:EET
DTSTART:20261025T010000
END:STANDARD
END:VTIMEZONE
BEGIN:VEVENT
DTSTART;TZID=Europe/Helsinki:20260915T080000
DTEND;TZID=Europe/Helsinki:20260915T170000
DTSTAMP:20260426T053440
CREATED:20260206T180111Z
LAST-MODIFIED:20260413T120333Z
UID:5476-1789459200-1789491600@xn--4dbnhjb9d.xn--4dbrk0ce
SUMMARY:כנס האגודה המדעית הישראלית לגידולי שדה וירקות 2026
DESCRIPTION:תאריך חדש!!! \nהכנס השביעי של האגודה המדעית הישראלית לגידולי שדה וירקות 2026 \nלינק לתאריך החדש: לחץ כאן \nכנס האגודה המדעית הישראלית לגידולי שדה וירקות 2026 \nהאגודה המדעית הישראלית לגידולי שדה וירקות
URL:https://xn--4dbnhjb9d.xn--4dbrk0ce/events/%d7%9b%d7%a0%d7%a1-%d7%94%d7%90%d7%92%d7%95%d7%93%d7%94-%d7%94%d7%9e%d7%93%d7%a2%d7%99%d7%aa-%d7%94%d7%99%d7%a9%d7%a8%d7%90%d7%9c%d7%99%d7%aa-%d7%9c%d7%92%d7%99%d7%93%d7%95%d7%9c%d7%99-%d7%a9%d7%93/
LOCATION:הפקולטה לחקלאות מזון וסביבה\, רחובות\, רחובות
CATEGORIES:גידולי שדה,ירקות
ATTACH;FMTTYPE=image/png:https://xn--4dbnhjb9d.xn--4dbrk0ce/wp-content/uploads/2026/02/1770399617.png
END:VEVENT
END:VCALENDAR