BEGIN:VCALENDAR
VERSION:2.0
PRODID:-//לחקלאי - ECPv6.10.1.1//NONSGML v1.0//EN
CALSCALE:GREGORIAN
METHOD:PUBLISH
X-WR-CALNAME:לחקלאי
X-ORIGINAL-URL:https://xn--4dbnhjb9d.xn--4dbrk0ce
X-WR-CALDESC:Events for לחקלאי
REFRESH-INTERVAL;VALUE=DURATION:PT1H
X-Robots-Tag:noindex
X-PUBLISHED-TTL:PT1H
BEGIN:VTIMEZONE
TZID:Europe/Helsinki
BEGIN:DAYLIGHT
TZOFFSETFROM:+0200
TZOFFSETTO:+0300
TZNAME:EEST
DTSTART:20250330T010000
END:DAYLIGHT
BEGIN:STANDARD
TZOFFSETFROM:+0300
TZOFFSETTO:+0200
TZNAME:EET
DTSTART:20251026T010000
END:STANDARD
END:VTIMEZONE
BEGIN:VEVENT
DTSTART;TZID=Europe/Helsinki:20250217T083000
DTEND;TZID=Europe/Helsinki:20250217T140000
DTSTAMP:20260425T144231
CREATED:20250111T131907Z
LAST-MODIFIED:20250228T180741Z
UID:2669-1739781000-1739800800@xn--4dbnhjb9d.xn--4dbrk0ce
SUMMARY:חוף הכרמל – ערש תירבות הזית העולמי
DESCRIPTION:כנס לשם שמירה על זיתי הבר שברכס עתלית\nלינק להרשמה
URL:https://xn--4dbnhjb9d.xn--4dbrk0ce/events/%d7%a2%d7%a8%d7%a9-%d7%aa%d7%99%d7%a8%d7%91%d7%95%d7%aa-%d7%94%d7%96%d7%99%d7%aa-%d7%94%d7%a2%d7%95%d7%9c%d7%9e%d7%99/
LOCATION:מחנה המעפילים\, עתלית\, עתלית
CATEGORIES:זית,כנס
ATTACH;FMTTYPE=image/jpeg:https://xn--4dbnhjb9d.xn--4dbrk0ce/wp-content/uploads/2025/01/כנס-חוף-הכרמל-ערש-תרבות-הזית-העולמי.jpg
END:VEVENT
END:VCALENDAR