BEGIN:VCALENDAR
VERSION:2.0
PRODID:-//לחקלאי - ECPv6.10.1.1//NONSGML v1.0//EN
CALSCALE:GREGORIAN
METHOD:PUBLISH
X-ORIGINAL-URL:https://xn--4dbnhjb9d.xn--4dbrk0ce
X-WR-CALDESC:Events for לחקלאי
REFRESH-INTERVAL;VALUE=DURATION:PT1H
X-Robots-Tag:noindex
X-PUBLISHED-TTL:PT1H
BEGIN:VTIMEZONE
TZID:Europe/Helsinki
BEGIN:DAYLIGHT
TZOFFSETFROM:+0200
TZOFFSETTO:+0300
TZNAME:EEST
DTSTART:20260329T010000
END:DAYLIGHT
BEGIN:STANDARD
TZOFFSETFROM:+0300
TZOFFSETTO:+0200
TZNAME:EET
DTSTART:20261025T010000
END:STANDARD
END:VTIMEZONE
BEGIN:VEVENT
DTSTART;TZID=Europe/Helsinki:20260301T080000
DTEND;TZID=Europe/Helsinki:20260301T120000
DTSTAMP:20260425T151928
CREATED:20260223T203448Z
LAST-MODIFIED:20260223T203448Z
UID:5597-1772352000-1772366400@xn--4dbnhjb9d.xn--4dbrk0ce
SUMMARY:סיור למגדלי פלחה חורף
DESCRIPTION:ביום ראשון – 1.3.2026\, יב' באדר תשפ"ו\, ייערך סיור למגדלי פלחה חורף באזור העוטף. נפגשים בבוקר בבית הכנסת העתיק מעון בשה 08:00 להתכנסות וקפה.\nסיור למגדלי פלחה חורף – תוכנית הסיור \n\nזריעות מוקדמות בנגב – נירים\nמבחן זני שעורה – עין השלושה\nנמטודות בחיטה – עין השלושה\nמבחן השקיה – רעים\nמבחן זני מספוא וגרעינים – בית קמה\nסיום משוער בשעה 12:00\n\nהסיור ללא עלות\, אך כדי שנוכל להתארגן מראש נדרשת הרשמה בקישור: לחץ כאן \nמצפים לראותכם. \nלפרטים נוספים: איציק אברבנאל\, טל': 050-3231224 \nסיור פלחה חורף \nשה"מ (שירות ההדרכה והמקצוע) במשרד החקלאות הוא הזרוע הביצועית המקשרת בין המחקר האקדמי לבין השטח החקלאי בישראל. תפקידו המרכזי הוא להנגיש לחקלאים ידע מקצועי עדכני\, טכנולוגיות מתקדמות ושיטות גידול חדשניות כדי לשפר את הכלכליות והקיימות של הענף. מדריכי שה"מ פועלים בפריסה ארצית ומלווים את המגדלים בהתמודדות עם מחלות\, מזיקים ושינויי אקלים\, ובכך הם מהווים עמוד שדרה מקצועי ששומר על רמת החקלאות הישראלית כמובילה עולמית. \nארגון עובדי הפלחה הוא הגוף המקצועי המאגד את מגדלי הגידולים המשתרעים (גידולי שדה כמו חיטה\, שעורה\, תירס\, כותנה וקטניות) בישראל. הארגון פועל כיחידה מקצועית במסגרת המרכז החקלאי\, ותפקידו המרכזי הוא לייצג את החקלאים מול מוסדות המדינה\, לקדם מחקר ופיתוח בתחום האגרוטכניקה ולדאוג לאספקת תשומות וביטוחים חקלאיים בתנאים מיטביים. בזכות פעילותו\, ענף הפלחה הישראלי נחשב לאחד המתקדמים בעולם מבחינת יבולים ליחידת שטח ושימוש יעיל במים\, כשהוא מהווה נדבך קריטי בביטחון המזון של מדינת ישראל.
URL:https://xn--4dbnhjb9d.xn--4dbrk0ce/events/%d7%a1%d7%99%d7%95%d7%a8-%d7%9c%d7%9e%d7%92%d7%93%d7%9c%d7%99-%d7%a4%d7%9c%d7%97%d7%94-%d7%97%d7%95%d7%a8%d7%a3/
LOCATION:בית הכנסת העתיק במעון\, מעון
CATEGORIES:גידולי חורף,סיור,פלחה
ATTACH;FMTTYPE=image/png:https://xn--4dbnhjb9d.xn--4dbrk0ce/wp-content/uploads/2026/02/1771878641-scaled.png
END:VEVENT
BEGIN:VEVENT
DTSTART;TZID=Europe/Helsinki:20260305T083000
DTEND;TZID=Europe/Helsinki:20260305T130000
DTSTAMP:20260425T151928
CREATED:20260225T193601Z
LAST-MODIFIED:20260303T185141Z
UID:5650-1772699400-1772715600@xn--4dbnhjb9d.xn--4dbrk0ce
SUMMARY:כנס פרדסני הצפון 26 עובר לזום
DESCRIPTION:כנס פרדסני הצפון 26 – מצורפת הזמנה לכנס ענף ההדרים בצפון בהובלת מדריכי ההדרים.\nבגלל המצב הבטחוני אנחנו נאלצים לקיים את כנס ההדרים הצפוני בזום\, אין שינויים בלוח הזמנים\, מצורפת הזמנה מעודכנת הכוללת קישור לכניסה בזום. מבקש לשמור בכל הכנס על מיקרופון סגור\, למעט בסוף כל הרצאה בה ינתן זמן לשאלות.\nכנס פרדסני הצפון 26 – נודה על הרשמה בקישור הבא. להתראות מצוותי ההדרים והכנסים. \nכנס פרדסני הצפון
URL:https://xn--4dbnhjb9d.xn--4dbrk0ce/events/%d7%9b%d7%a0%d7%a1-%d7%a4%d7%a8%d7%93%d7%a1%d7%a0%d7%99-%d7%94%d7%a6%d7%a4%d7%95%d7%9f-26-%d7%a2%d7%95%d7%91%d7%a8-%d7%9c%d7%96%d7%95%d7%9d/
LOCATION:אולם בית גבריאל\, בית גבריאל
CATEGORIES:הדרים,כנס
ATTACH;FMTTYPE=image/png:https://xn--4dbnhjb9d.xn--4dbrk0ce/wp-content/uploads/2026/02/1772047852-scaled.png
END:VEVENT
BEGIN:VEVENT
DTSTART;TZID=Europe/Helsinki:20260310T090000
DTEND;TZID=Europe/Helsinki:20260310T130000
DTSTAMP:20260425T151928
CREATED:20260223T202316Z
LAST-MODIFIED:20260223T202316Z
UID:5593-1773133200-1773147600@xn--4dbnhjb9d.xn--4dbrk0ce
SUMMARY:יום עיון למגדלי מטילות לביצי מאכל 26
DESCRIPTION:יום עיון למגדלי מטילות לביצי מאכל 26 – יום העיון ייערך ביום שלישי – 10.03.2026\, באולם רואי שבקריה החקלאית – ראשון לציון\, החל מהשעה 9:00 בבוקר.\nיום עיון למגדלי מטילות לביצי מאכל 26 – בתוכנית: \n\n\n\n09:15-09:00\nברכות ועדכונים\n– נבות חקלאי\, מנהל אגף א' בע"ח\, שה"מ\n\n\n09:30-09:15\nשלוחת ביצי המאכל: תמונת מצב\, אתגרים והזדמנויות לעתיד\n– אורי צוק בר\, סמנכ"ל בכיר למחקר\, כלכלה ואסטרטגיה\, משרד החקלאות\n\n\n10:00-09:30\nנוהלי מענקים והסדרה סטטוטורית לבניית לולי מטילות\n– גדעון גדמו\, מחוז השפלה וההר\, משרד החקלאות\n\n\n10:30-10:00\nרוחש ומתרחש\n– מוטי אלקבץ\, מזכיר ארגון המגדלים\n\n\n10:45-10:30\nהפסקה\n\n\n12:40-10:45\nהצגת חברות העוסקות בבניית לולים נטולי כלובים \n\nחברת אדק טכנולוגיה וחשמל בע"מ\nחברת ונקומטיק בע"מ\nחברת נילי מפעלי מתכת בע"מ\nחברת אגרוטופ בע"מ\nחברת ארזים א.פ. פרויקטים בע"מ\nחברת פלסאון בע"מ\nחברת מג"ח טכנולוגיות בע"מ\n\n\n\n\n\nהכניסה לקריה החקלאית מחייבת הרשמה מראש. להרשמה לחץ כאן \nלידיעתכם – יום עיון דומה יערך בגליל ב-אפריל 2026 פרטים בקרוב \nמרכזת ארגונית: טל נירל\, טל': 054-4337705 \nביצי מאכל \nשה"מ (שירות ההדרכה והמקצוע) במשרד החקלאות הוא הזרוע הביצועית המקשרת בין המחקר האקדמי לבין השטח החקלאי בישראל. תפקידו המרכזי הוא להנגיש לחקלאים ידע מקצועי עדכני\, טכנולוגיות מתקדמות ושיטות גידול חדשניות כדי לשפר את הכלכליות והקיימות של הענף. מדריכי שה"מ פועלים בפריסה ארצית ומלווים את המגדלים בהתמודדות עם מחלות\, מזיקים ושינויי אקלים\, ובכך הם מהווים עמוד שדרה מקצועי ששומר על רמת החקלאות הישראלית כמובילה עולמית.
URL:https://xn--4dbnhjb9d.xn--4dbrk0ce/events/%d7%99%d7%95%d7%9d-%d7%a2%d7%99%d7%95%d7%9f-%d7%9c%d7%9e%d7%92%d7%93%d7%9c%d7%99-%d7%9e%d7%98%d7%99%d7%9c%d7%95%d7%aa-%d7%9c%d7%91%d7%99%d7%a6%d7%99-%d7%9e%d7%90%d7%9b%d7%9c-26/
LOCATION:אולם ע״ש רואי\, הקריה החקלאית\, בית דגן
CATEGORIES:ביצים,יום עיון,מטילות
ATTACH;FMTTYPE=image/png:https://xn--4dbnhjb9d.xn--4dbrk0ce/wp-content/uploads/2026/02/1771877697-scaled.png
END:VEVENT
BEGIN:VEVENT
DTSTART;TZID=Europe/Helsinki:20260310T093000
DTEND;TZID=Europe/Helsinki:20260310T133000
DTSTAMP:20260425T151928
CREATED:20260223T200646Z
LAST-MODIFIED:20260223T200646Z
UID:5589-1773135000-1773149400@xn--4dbnhjb9d.xn--4dbrk0ce
SUMMARY:יום עיון למגדלי בקר במרעה
DESCRIPTION:יום עיון למגדלי בקר במרעה בנושא: גמילה או פיטום? פתרונות קצה לעגלי הבקר לבשר\nבוקרים ואנשי מקצוע\, הנכם מוזמנים ליום עיון למגדלי בקר במרעה\, שיתקיים ביום שלישי – 10 במרס \,2026 כ"א באדר תשפ"ו\, בין השעות \,13:30-09:30 במשק דן שבקיבוץ חמדיה. \nבמהלך היום נעסוק במתן כלים למגדלי הבקר לבשר לקבלת ההחלטה המושכלת והטובה ביותר לגבי פתרונות קצה למכירת עגלים. \nלרישום הקישו כאן \n**ייתכנו שינויים בעקבות התפרצות מחלת הפה והטלפיים. \nלפרטים נוספים:\nריכוז מקצועי: גיא ראובני\, מדריך בקר לבשר\, טל': 052-5456783\nריכוז ארגוני: טל נירל\, טל': 054-4337705; 03-9485629 \nמגדלי בקר לבשר \nאמב"ל (ארגון מגדלי בקר לבשר) הוא הגוף היציג של מגדלי הבקר במרעה בישראל\, הפועל תחת התאחדות חקלאי ישראל. הארגון מהווה את חנית המאבק לשמירה על שטחי המרעה והאדמות הפתוחות של המדינה\, מצפון ועד דרום\, ומעניק למגדלים מעטפת מקצועית ומשפטית. מעבר לאספקת בשר בקר מקומי ואיכותי\, חברי הארגון ממלאים תפקיד אסטרטגי בביטחון הלאומי כ"שומרי הסף" של הקרקע מפני פלישות והצתות\, תוך קידום מחקרים לשיפור גנטי של העדרים ושמירה על בריאות הציבור. \nשה"מ (שירות ההדרכה והמקצוע) במשרד החקלאות הוא הזרוע הביצועית המקשרת בין המחקר האקדמי לבין השטח החקלאי בישראל. תפקידו המרכזי הוא להנגיש לחקלאים ידע מקצועי עדכני\, טכנולוגיות מתקדמות ושיטות גידול חדשניות כדי לשפר את הכלכליות והקיימות של הענף. מדריכי שה"מ פועלים בפריסה ארצית ומלווים את המגדלים בהתמודדות עם מחלות\, מזיקים ושינויי אקלים\, ובכך הם מהווים עמוד שדרה מקצועי ששומר על רמת החקלאות הישראלית כמובילה עולמית.
URL:https://xn--4dbnhjb9d.xn--4dbrk0ce/events/%d7%99%d7%95%d7%9d-%d7%a2%d7%99%d7%95%d7%9f-%d7%9c%d7%9e%d7%92%d7%93%d7%9c%d7%99-%d7%91%d7%a7%d7%a8-%d7%91%d7%9e%d7%a8%d7%a2%d7%94/
LOCATION:משק דן\, קיבוץ חמדיה
CATEGORIES:בקר,יום עיון
ATTACH;FMTTYPE=image/png:https://xn--4dbnhjb9d.xn--4dbrk0ce/wp-content/uploads/2026/02/1771876679-scaled.png
END:VEVENT
BEGIN:VEVENT
DTSTART;TZID=Europe/Helsinki:20260310T160000
DTEND;TZID=Europe/Helsinki:20260310T180000
DTSTAMP:20260425T151928
CREATED:20260225T191801Z
LAST-MODIFIED:20260225T191801Z
UID:5645-1773158400-1773165600@xn--4dbnhjb9d.xn--4dbrk0ce
SUMMARY:DemoDay Boostcamp Darom
DESCRIPTION:מרכז החדשנות דרום שמח להזמין אותכם למפגש של אקוסיסטם היזמות בדרום:\nDemoDay Boostcamp Darom – אירוע ה-DemoDay של תוכנית ה-Boostcamp.\nזו הזדמנות להיפגש לנטוורקינג\, להכיר את המיזמים החדשים של מרכז חדשנות דרום וליצור חיבורים מקצועיים ושותפויות חדשות בנגב. \nבלו"ז:\n16:00 – קוקטייל ונטוורקינג\n17:00 – מיזמות להצלחה עולמית: שיחה פתוחה עם יוסי ורדי\, מבכירי המשקיעים בישראל.\n17:30 – הדמו-דיי: הצגת המיזמים הנבחרים של המחזור על הבמה. \nמתי ואיפה?\nאוניברסיטת בן גוריון | יום שלישי | 10.03.2026 | 16:00 \n*מספר המקומות מוגבל\,\nלפרטים נוספים ושריון מקום >>>* https://darom.life/he/boosstcamp-darom-demo-day/ \nDemoDay Boostcamp Darom
URL:https://xn--4dbnhjb9d.xn--4dbrk0ce/events/demoday-boostcamp-darom/
LOCATION:אוניברסיטת בן גוריון\, באר שבע
CATEGORIES:חדשנות חקלאית
ATTACH;FMTTYPE=image/jpeg:https://xn--4dbnhjb9d.xn--4dbrk0ce/wp-content/uploads/2026/02/1772046647.jpg
END:VEVENT
BEGIN:VEVENT
DTSTART;TZID=Europe/Helsinki:20260311T080000
DTEND;TZID=Europe/Helsinki:20260311T170000
DTSTAMP:20260425T151928
CREATED:20260124T142446Z
LAST-MODIFIED:20260124T142446Z
UID:5277-1773216000-1773248400@xn--4dbnhjb9d.xn--4dbrk0ce
SUMMARY:כנס זורעות את העתיד - Save The Date
DESCRIPTION:כנס זורעות את העתיד – Save The Date\nכנס זורעות את העתיד – נשים מובילות בחקלאות הישראלית\nביזמות ובחדשנות\, בניווט ובניהול\, במחקר ובהדרכה. הכנס ייערך ביום רביעי – 11/03/2026 באולם כהן\, הקריה החקלאית ראשון לציון. \nלהרשמה לחצו כאן
URL:https://xn--4dbnhjb9d.xn--4dbrk0ce/events/%d7%9b%d7%a0%d7%a1-%d7%96%d7%95%d7%a8%d7%a2%d7%95%d7%aa-%d7%90%d7%aa-%d7%94%d7%a2%d7%aa%d7%99%d7%93-save-the-date/
LOCATION:אולם כהן\, מינהל המחקר החקלאי\, הקריה החקלאית – בית דגן
CATEGORIES:אגרוטק,ביטחון מזון,הגנת הצומח,חדשנות חקלאית,חקלאות,כנס
ATTACH;FMTTYPE=image/jpeg:https://xn--4dbnhjb9d.xn--4dbrk0ce/wp-content/uploads/2025/08/1754322570.jpg
END:VEVENT
BEGIN:VEVENT
DTSTART;TZID=Europe/Helsinki:20260316T160000
DTEND;TZID=Europe/Helsinki:20260316T170000
DTSTAMP:20260425T151928
CREATED:20260215T140917Z
LAST-MODIFIED:20260215T140917Z
UID:5557-1773676800-1773680400@xn--4dbnhjb9d.xn--4dbrk0ce
SUMMARY:EAT Lancet 2025
DESCRIPTION:יום עיון לרגל ההשקה הישראלית של\nEAT Lancet 2025:\nהמסמך המדעי המוביל בעולם לקידום\nתזונה בריאה\, צודקת ובת-קיימא\nהפורום הישראלי לתזונה בת-קיימא ומוזיאון הטבע ע"ש שטיינהרדט מתכבדים להזמינכם לאירוע ההשקה הישראלי של דו"ח EAT Lancet 2025\, המסמך המדעי המוביל בעולם לקידום תזונה בריאה\, צודקת ובת-קיימא. \n\nהדו"ח מבוסס מדע והוא המסמך המקיף והעדכני ביותר שעוסק בתזונה פלנטרית ובגבולות פלנטריים של בריאות האדם והעולם. הדו"ח מציב לראשונה את סוגיית הצדק התזונתי והחברתי במרכז הדיון כאמצעי הכרחי לשינוי מערכות המזון בעולם. \n\nבאירוע יוצגו עיקרי הדו"ח ויידונו שלושת עמודי התווך שלו: \nתזונה בריאה * מערכות מזון בנות-קיימא * צדק תזונתי כזכות יסוד. \n \nהרצאת אורח מקוונת ◁ פרופ' קרלוס מונטיירו\nחבר הוועדה הבינלאומית של EAT Lancet\,\nמהחוקרים הבולטים בעולם בתחום המזון המעובד והבריאות.\n\n\n\n\n \nלהרשמה ופרטים: לחץ כאן
URL:https://xn--4dbnhjb9d.xn--4dbrk0ce/events/eat-lancet-2025/
LOCATION:מוזיאון הטבע ע״ש שטיינהרדט\, תל אביב
CATEGORIES:בינלאומית,יום עיון,תזונה בת-קיימא
ATTACH;FMTTYPE=image/jpeg:https://xn--4dbnhjb9d.xn--4dbrk0ce/wp-content/uploads/2026/02/1771164152.jpg
END:VEVENT
BEGIN:VEVENT
DTSTART;TZID=Europe/Helsinki:20260323T083000
DTEND;TZID=Europe/Helsinki:20260323T133000
DTSTAMP:20260425T151928
CREATED:20260210T210105Z
LAST-MODIFIED:20260210T210105Z
UID:5516-1774254600-1774272600@xn--4dbnhjb9d.xn--4dbrk0ce
SUMMARY:כנס מגדלי פרחי קטיף ליצוא
DESCRIPTION:כנס מגדלי פרחי קטיף ליצוא יתקיים ביום שני\, 23.3.2026 – ו' אדר תשפ"ו בשעה 08:30.\nבמכון למדעי הצמח\, אולם בנק הגנים בקריה החקלאית – ראשון לציון.\nכנס מגדלי פרחי קטיף ליצוא – תוכנית הכנס: \n\n\n\n\nמושב ראשון: תפיסות ופסילות של פרחי קטיף ליצוא\n\n\n08:30\nהתכנסות וכיבוד\n\n\n09:00\nפתיחה – חגי שניר\, מנהל שה"מ\, משרד החקלאות וביטחון המזון\n\n\n09:15\nסקירה כללית של ענף פריח הקטיף – יאיר נשרי\, מנהלת תחום פרחים\, שה"מ\n\n\n09:30\nהחוק ותקנות הגה"צ כבסיס לבדיקת תוצרת חקלאית (כולל זמן לשאלות ודיון) – עמית מזרחי\, מנהל אגף ביקורת\, השירותים להגנת הצומח\n\n\n10:00\nתפיסות פסילות בפרחים קטופים\, נתוני אמת – עלומה שדה\, מנהלת תחום תקני איכות ותמיכה מקצועית\, השירותים להגנת הצומח\n\n\n10:20\nהפסקה\n\n\n10:45\nמזיקי הסגר\, הנזק ודרכי התמודדות – אביחי הרוש\, מדריך הגנת הצומח בפרחים\, שה"מ\n\n\n11:05\nטיפול בחום כשיטה להדברת מזיקים והארכת חיי מדף – יעקב גוטליב\, ממ"ר הגנת הצומח בפרחים\, שה"מ\n\n\n11:30\nהפסקת צהריים\n\n\n\nמושב שני: יצוא פרחים מישראל מה עוד ניתן לעשות?\n\n\n12:00\nהסמכה ועבודה לפי תקנים בין לאומיים מחייבים; גלובל גאפ – כתקן מחייב לשיווק פרחים לבורסות – מר יגאל בר נוי\n\n\n12:30\nטיפול נכון בפרח הקטוף ליצוא – מר חמי לינדלבלום\, חברת גדות\n\n\n13:00\nמוצר סופי בעל ערך ואתגרים ביצוא פרחים בתנאי שוק משתנים – מר עופר מהרל \, חברת FLC\n\n\n13:30\nסיום\n\n\n\n  \nלהרשמה: לחץ כאן \nלפרטים נוספים:\nיאיר נשרי\, טל': 050-6241280; סיגל פרסון פישלר\, טל': 054-4627361
URL:https://xn--4dbnhjb9d.xn--4dbrk0ce/events/%d7%9b%d7%a0%d7%a1-%d7%9e%d7%92%d7%93%d7%9c%d7%99-%d7%a4%d7%a8%d7%97%d7%99-%d7%a7%d7%98%d7%99%d7%a3-%d7%9c%d7%99%d7%a6%d7%95%d7%90/
LOCATION:אולם בנק הגנים בקריה החקלאית\, ראשון לציון
CATEGORIES:כנס,פרחים
ATTACH;FMTTYPE=image/png:https://xn--4dbnhjb9d.xn--4dbrk0ce/wp-content/uploads/2026/01/1769272554.png
END:VEVENT
BEGIN:VEVENT
DTSTART;TZID=Europe/Helsinki:20260330T083000
DTEND;TZID=Europe/Helsinki:20260330T133000
DTSTAMP:20260425T151928
CREATED:20260212T192402Z
LAST-MODIFIED:20260212T193643Z
UID:5544-1774859400-1774877400@xn--4dbnhjb9d.xn--4dbrk0ce
SUMMARY:מחקרים בזית
DESCRIPTION:יום העיון ה-20 בנושא מחקרים בענף הזית\nמחקרים בזית \nמחקרים בזית – להרשמה: לחץ כאן
URL:https://xn--4dbnhjb9d.xn--4dbrk0ce/events/%d7%9e%d7%97%d7%a7%d7%a8%d7%99%d7%9d-%d7%91%d7%96%d7%99%d7%aa/
LOCATION:אולם כהן\, מינהל המחקר החקלאי\, הקריה החקלאית – בית דגן
CATEGORIES:זית,יום עיון
ATTACH;FMTTYPE=image/jpeg:https://xn--4dbnhjb9d.xn--4dbrk0ce/wp-content/uploads/2026/02/1770923567.jpg
END:VEVENT
END:VCALENDAR